BEGIN:VCALENDAR
VERSION:2.0
PRODID:-//Tukios.com/
BEGIN:VEVENT
UID:1d6838a9-014d-450a-b09e-7bae4bcf3594@www.andersonandsonfuneralhomes.com
DTSTAMP:20260420T174344Z
DTSTART:20260425T180000Z
DTEND:20260425T190000Z
SUMMARY:Graveside Service
DESCRIPTION:
URL:https://www.andersonandsonfuneralhomes.com/obituaries/judy-gibson
LOCATION:   Red Boiling Springs TN 
GEO:36.533695;-85.847781
END:VEVENT
END:VCALENDAR